BEGIN:VCALENDAR
VERSION:2.0
PRODID:-//Cultura Urbana - ECPv6.15.16.1//NONSGML v1.0//EN
CALSCALE:GREGORIAN
METHOD:PUBLISH
X-ORIGINAL-URL:https://culturaurbana.org.br
X-WR-CALDESC:Eventos para Cultura Urbana
REFRESH-INTERVAL;VALUE=DURATION:PT1H
X-Robots-Tag:noindex
X-PUBLISHED-TTL:PT1H
BEGIN:VTIMEZONE
TZID:America/Sao_Paulo
BEGIN:STANDARD
TZOFFSETFROM:-0300
TZOFFSETTO:-0300
TZNAME:-03
DTSTART:20250101T000000
END:STANDARD
END:VTIMEZONE
BEGIN:VTIMEZONE
TZID:UTC
BEGIN:STANDARD
TZOFFSETFROM:+0000
TZOFFSETTO:+0000
TZNAME:UTC
DTSTART:20260101T000000
END:STANDARD
END:VTIMEZONE
BEGIN:VEVENT
DTSTART;TZID=America/Sao_Paulo:20270308T073000
DTEND;TZID=America/Sao_Paulo:20270308T121500
DTSTAMP:20260423T120642
CREATED:20260228T135826Z
LAST-MODIFIED:20260228T135826Z
UID:25183-1804491000-1804508100@culturaurbana.org.br
SUMMARY:I Festival PraEllas
DESCRIPTION:I Festival PraEllas – Futebol Feminino Educacional da Zona Oeste \n“Elas em Campo\, Elas na História” 💜 \nNo dia 08 de março – Dia Internacional da Mulher\, o Instituto Cultura Urbana realiza um marco para o esporte feminino da nossa região: um festival que vai muito além da competição. \nSerão 08 equipes de projetos sociais reunidas para celebrar o futebol como ferramenta de transformação\, autoestima\, liderança e protagonismo feminino. 💪🏽✨ \nTeremos o pontapé inicial com a pioneira do futebol feminino brasileiro\, Marisa Pires\, primeira capitã da Seleção Brasileira em Copa do Mundo — conectando gerações e mostrando às nossas meninas que elas fazem parte dessa história. \nAlém dos jogos\, o evento contará com:🎶 Apresentação cultural do Projeto Bora Batucar🌱 Ativações educativas e ambientais em parceria com a Iguá🤝 Integração entre esporte\, cultura e sustentabilidade \nMais que um festival\, é um movimento permanente de fortalecimento do futebol feminino de base na Zona Oeste. \nPorque não é só sobre jogar futebol.É sobre ocupar espaços\, construir história e garantir que nenhuma menina saia do campo por falta de oportunidade. 💜⚽ \n#PraEllas #ElasEmCampo #FutebolFeminino #CulturaUrbana #ZonaOeste #DiaInternacionalDaMulher
URL:https://culturaurbana.org.br/evento/i-festival-praellas/
LOCATION:Vila Olímpica do Mato Alto\, R. Cândido Benício\, 2973\, Rio de Janeiro\, Rio de Janeiro\, 22733-040\, Brazil
CATEGORIES:PraEllas
ORGANIZER;CN="Cultura Urbana":MAILTO:contato@culturaurbana.org.br
END:VEVENT
BEGIN:VEVENT
DTSTART;TZID=America/Sao_Paulo:20260512T100000
DTEND;TZID=America/Sao_Paulo:20260512T160000
DTSTAMP:20260423T120642
CREATED:20250321T180843Z
LAST-MODIFIED:20250502T195553Z
UID:24285-1778580000-1778601600@culturaurbana.org.br
SUMMARY:Feira de Artesãos - Bazar Cultura Urbana -Especial Dia das Mães
DESCRIPTION:Venha prestigiar a Feira de Artesãos do Bazar Cultura Urbana! Um evento especial que reúne produtos únicos e feitos por talentosos artistas da nossa região\, além dos itens incríveis do nosso bazar. \nE para tornar a experiência ainda melhor\, teremos um cardápio delicioso com pastel de queijo\, cuscuz e refrigerante! \nAo comprar no Bazar\, você não só garante peças exclusivas e de qualidade\, mas também colabora diretamente com a manutenção dos nossos projetos sociais.
URL:https://culturaurbana.org.br/evento/feira-de-artesaos-bazar-cultura-urbana-especial-dia-das-maes/
LOCATION:Cultura Urbana\, Rua Godofredo Viana\, 64\, Cultura Urbana - Tanque\, Rio de Janeiro\, RJ\, 22730-020
CATEGORIES:Bazar Cultura Urbana
ATTACH;FMTTYPE=image/webp:https://culturaurbana.org.br/wp-content/uploads/2025/03/Bazar-Cultura-Urbana-Negocio-Social-2-1-e1743264828534.webp
ORGANIZER;CN="Cultura Urbana":MAILTO:contato@culturaurbana.org.br
END:VEVENT
BEGIN:VEVENT
DTSTART;TZID=America/Sao_Paulo:20260507T080000
DTEND;TZID=America/Sao_Paulo:20260507T180000
DTSTAMP:20260423T120642
CREATED:20250502T150828Z
LAST-MODIFIED:20250502T150828Z
UID:25092-1778140800-1778176800@culturaurbana.org.br
SUMMARY:Feira de Artesãos e Bazar Cultura Urbana -Especial Dia das Mães
DESCRIPTION:Venha prestigiar a Feira de Artesãos do Bazar Cultura Urbana! Um evento especial que reúne produtos únicos e feitos por talentosos artistas da nossa região\, além dos itens incríveis do nosso bazar. \nE para tornar a experiência ainda melhor\, teremos um cardápio delicioso com pastel de queijo\, cuscuz e refrigerante! \nAo comprar no Bazar\, você não só garante peças exclusivas e de qualidade\, mas também colabora diretamente com a manutenção dos nossos projetos sociais.
URL:https://culturaurbana.org.br/evento/feira-de-artesaos-e-bazar-cultura-urbana-especial-dia-das-maes/
LOCATION:Cultura Urbana\, Rua Godofredo Viana\, 64\, Cultura Urbana - Tanque\, Rio de Janeiro\, RJ\, 22730-020
CATEGORIES:Bazar Cultura Urbana
ATTACH;FMTTYPE=image/webp:https://culturaurbana.org.br/wp-content/uploads/2025/03/Bazar-Cultura-Urbana-Negocio-Social-2-1-e1743264828534.webp
ORGANIZER;CN="Cultura Urbana":MAILTO:contato@culturaurbana.org.br
END:VEVENT
BEGIN:VEVENT
DTSTART;TZID=UTC:20270409T080000
DTEND;TZID=UTC:20270409T180000
DTSTAMP:20260423T120642
CREATED:20200909T110026Z
LAST-MODIFIED:20250329T161452Z
UID:2058-1807257600-1807293600@culturaurbana.org.br
SUMMARY:Bazar Cultura Urbana - Edição de Páscoa!
DESCRIPTION:Venha aproveitar a nossa edição especial de Páscoa do Bazar Cultura Urbana! Aqui você encontra roupas\, calçados\, acessórios e muito mais com aquele precinho especial e a qualidade que só o nosso bazar tem! \nE para deixar o dia ainda mais gostoso\, teremos Torta de Sardinha\, bolo de chocolate e outras delícias esperando por você! \nAlém de garantir peças incríveis\, você também estará apoiando a manutenção dos nossos projetos sociais. \nNão perca essa chance de renovar o guarda-roupa\, saborear quitutes deliciosos e fazer o bem! Te esperamos!
URL:https://culturaurbana.org.br/evento/bazar-cultura-urbana-edicao-de-pascoa/
LOCATION:Cultura Urbana\, Rua Godofredo Viana\, 64\, Cultura Urbana - Tanque\, Rio de Janeiro\, RJ\, 22730-020
CATEGORIES:Bazar Cultura Urbana
ATTACH;FMTTYPE=image/webp:https://culturaurbana.org.br/wp-content/uploads/2025/03/Bazar-Cultura-Urbana-Negocio-Social-2-1-e1743264828534.webp
ORGANIZER;CN="Cultura Urbana":MAILTO:contato@culturaurbana.org.br
END:VEVENT
END:VCALENDAR